BEGIN:VCALENDAR
VERSION:2.0
PRODID:-//Mario Pirovano - ECPv4.9.1.1//NONSGML v1.0//EN
CALSCALE:GREGORIAN
METHOD:PUBLISH
X-WR-CALNAME:Mario Pirovano
X-ORIGINAL-URL:https://www.mariopirovano.it
X-WR-CALDESC:Eventi per Mario Pirovano
BEGIN:VEVENT
DTSTART;TZID=Europe/Rome:20260520T210000
DTEND;TZID=Europe/Rome:20260520T223000
DTSTAMP:20260422T135710
CREATED:20260421T132346Z
LAST-MODIFIED:20260421T133018Z
UID:3888-1779310800-1779316200@www.mariopirovano.it
SUMMARY:Lu Santo Jullare Francesco a Varese
DESCRIPTION:All’interno dell’Edizione 2026 del Festival dei Mezarat \nMARIO PIROVANO in\nLu Santo Jullare Francesco\ndi Dario Fo e Franca Rame \nMercoledì 20 Maggio 2026\, ore 21:00\nVilla Recalcati\, Piazzale Libertà\, 1\nVarese (VA) \nIngresso libero. \nLo spettacolo rientra nelle celebrazioni ufficiali del Centenario di Dario Fo\, organizzate dalla Fondazione Fo Rame \n
URL:https://www.mariopirovano.it/event/lu-santo-jullare-francesco-a-varese/
LOCATION:Villa Recalcati\, Piazzale Libertà\, 1\, Varese\, VA\, 21100
CATEGORIES:Spettacoli
ATTACH;FMTTYPE=image/jpeg:https://www.mariopirovano.it/wp-content/uploads/2026/04/Pirovano-varese-200526-scaled.jpg
END:VEVENT
END:VCALENDAR