BEGIN:VCALENDAR
VERSION:2.0
PRODID:-//Mario Pirovano - ECPv4.9.1.1//NONSGML v1.0//EN
CALSCALE:GREGORIAN
METHOD:PUBLISH
X-WR-CALNAME:Mario Pirovano
X-ORIGINAL-URL:https://www.mariopirovano.it
X-WR-CALDESC:Eventi per Mario Pirovano
BEGIN:VEVENT
DTSTART;TZID=Europe/Rome:20260420T080000
DTEND;TZID=Europe/Rome:20260420T170000
DTSTAMP:20260420T162903
CREATED:20260420T125343Z
LAST-MODIFIED:20260420T125343Z
UID:3882-1776672000-1776704400@www.mariopirovano.it
SUMMARY:Lu Santo Jullare Francesco a Sartirana Lomellina (PV)
DESCRIPTION:MARIO PIROVANO in \nLu Santo Jullare Francesco\ndi Dario Fo e Franca Rame \nDomenica 10 Maggio\, ore 16:00\nCastello di Sartirana Lomellina\, Pavia \nIngresso gratuito riservato ai soci Auser \n
URL:https://www.mariopirovano.it/event/lu-santo-jullare-francesco-a-sartirana-lomellina-pv/
LOCATION:Castello di Sartirana Lomellina\, Piazza Lodovico da Breme\, 4\, Sartirana Lomellina\, PV\, 27020\, Italia
CATEGORIES:Spettacoli
ATTACH;FMTTYPE=image/jpeg:https://www.mariopirovano.it/wp-content/uploads/2026/04/WhatsApp-Image-2026-04-18-at-10.36.06.jpeg
END:VEVENT
END:VCALENDAR